BEGIN:VCALENDAR
VERSION:2.0
PRODID:-//MARVAC - ECPv6.15.20//NONSGML v1.0//EN
CALSCALE:GREGORIAN
METHOD:PUBLISH
X-WR-CALNAME:MARVAC
X-ORIGINAL-URL:https://www.michiganrvandcampgrounds.org
X-WR-CALDESC:Events for MARVAC
REFRESH-INTERVAL;VALUE=DURATION:PT1H
X-Robots-Tag:noindex
X-PUBLISHED-TTL:PT1H
BEGIN:VTIMEZONE
TZID:America/Detroit
BEGIN:DAYLIGHT
TZOFFSETFROM:-0500
TZOFFSETTO:-0400
TZNAME:EDT
DTSTART:20240310T070000
END:DAYLIGHT
BEGIN:STANDARD
TZOFFSETFROM:-0400
TZOFFSETTO:-0500
TZNAME:EST
DTSTART:20241103T060000
END:STANDARD
BEGIN:DAYLIGHT
TZOFFSETFROM:-0500
TZOFFSETTO:-0400
TZNAME:EDT
DTSTART:20250309T070000
END:DAYLIGHT
BEGIN:STANDARD
TZOFFSETFROM:-0400
TZOFFSETTO:-0500
TZNAME:EST
DTSTART:20251102T060000
END:STANDARD
BEGIN:DAYLIGHT
TZOFFSETFROM:-0500
TZOFFSETTO:-0400
TZNAME:EDT
DTSTART:20260308T070000
END:DAYLIGHT
BEGIN:STANDARD
TZOFFSETFROM:-0400
TZOFFSETTO:-0500
TZNAME:EST
DTSTART:20261101T060000
END:STANDARD
END:VTIMEZONE
BEGIN:VEVENT
DTSTART;TZID=America/Detroit:20250228T130000
DTEND;TZID=America/Detroit:20250302T170000
DTSTAMP:20260422T030743
CREATED:20260414T193023Z
LAST-MODIFIED:20260414T214259Z
UID:78562-1740747600-1740934800@www.michiganrvandcampgrounds.org
SUMMARY:38th Battle Creek RV & Camping Show
DESCRIPTION:New RVs will be on display to tour at the MARVAC 38th Battle Creek RV & Camping Show at the Kellogg Arena. Our dealers are available during show hours to help you find an RV for any budget with exclusive on-site dealer RV financing\, special discounted models\, and RV rental information. There will also be multiple booth exhibitors featuring parts\, accessories\, and campground information. \nHours: Friday 1-8 p.m.\, Saturday 10 a.m. – 8 p.m.\, Sunday 12-5 p.m. \nTickets: Adult admission (ages 13 and over) is $8. Senior admission (ages 55 and over) is $7. Children 12 and under get in free. Purchase tickets here.\nTicket is good for one-day entry. Ticket is good for any day of the event. All sales are final. Purchased tickets are non-refundable. \nWhere: Kellogg Arena – 1 McCamly Square\, Battle Creek\, MI 49017. Parking not included in show admission. Information on public parking can be found here.\nDue to remodeling\, entry points to the Kellogg Arena have changed. \n\nMain Entrance: Kellogg Arena Box Office (located on the rear side located off Jackson St.\, adjacent to Festival Market Square)\nNorthwest Entry: (located on the first level of Hamblin Ave. Parking Ramp\, behind Festival Market Square)\n\nFloorplan & Exhibitor List\n \n\n  \n  \n  \n  \n  \n  \n  \nIn exchange for the Michigan Manufactured Housing RV & Campground Association (“Association”) allowing attendee to attend this event\, attendee assumes all risk of\, and agrees that the Association\, its employees and members\, and other show participants are not liable for any damage to property or injury to or death of any persons. As further consideration\, attendee agrees to defend\, indemnify and hold harmless Association\, its employees and members\, and other show participants from and against any and all claims for any injury or death to any person\, or sustained by any person or property related to the attendee attending this event. \n\n\nAnimal policy: Service animals are welcome into MARVAC RV & Camping Shows. The Americans with Disabilities Act (ADA) 2010 Regulations define a service animal as “any dog that is individually trained to do work or perform tasks for the benefit of an individual with a disability\, including a physical\, sensory\, psychiatric\, intellectual\, or other mental disability. Other species of animals\, whether wild or domestic\, trained or untrained\, are not service animals for the purposes of this definition.” C.F.R. § 35.104 and § 36.104 (2010).\n\n\nSubmit the form below to get your $1 off coupon now!
URL:https://www.michiganrvandcampgrounds.org/event/38th-battle-creek-rv-camping-show/
LOCATION:Kellogg Arena\, 1 McCamly St\, Battle Creek\, MI\, 49017\, United States
CATEGORIES:RV Show
ATTACH;FMTTYPE=image/png:https://www.michiganrvandcampgrounds.org/wp-content/uploads/2025/01/Website-event-page-banner-2.png
END:VEVENT
BEGIN:VEVENT
DTSTART;TZID=America/Detroit:20250314T120000
DTEND;TZID=America/Detroit:20250316T170000
DTSTAMP:20260422T030743
CREATED:20260414T192722Z
LAST-MODIFIED:20260414T212412Z
UID:78979-1741953600-1742144400@www.michiganrvandcampgrounds.org
SUMMARY:48th Annual Flint RV & Camping Show
DESCRIPTION:New RVs will be on display to tour at the MARVAC 48th Annual Flint RV & Camping Show at the Dort Financial Center. Our dealers are available during show hours to help you find an RV for any budget with exclusive on-site dealer RV financing\, special discounted models\, and RV rental information. There will also be multiple booth exhibitors. \nHours: Friday 12-8 p.m.\, Saturday 10 a.m. – 7 p.m.\, Sunday 11 a.m. -5 p.m. \nTickets: Adult admission (ages 13 and over) is $7. Senior admission (ages 55 and over) is $6. Children 12 and under get in free. Tickets available by day –\nFriday \nSaturday\nSunday \nTicket is good for one-day entry. All sales are final. Purchased tickets are non-refundable. \nWhere: Dort Financial Center – 3501 Lapeer Rd. Flint\, MI 48503. Parking not included in show admission. \nFloorplan & Exhibitors \n  \n\nIn exchange for the Michigan Manufactured Housing RV & Campground Association (“Association”) allowing attendee to attend this event\, attendee assumes all risk of\, and agrees that the Association\, its employees and members\, and other show participants are not liable for any damage to property or injury to or death of any persons. As further consideration\, attendee agrees to defend\, indemnify and hold harmless Association\, its employees and members\, and other show participants from and against any and all claims for any injury or death to any person\, or sustained by any person or property related to the attendee attending this event. \n\n\nAnimal policy: Service animals are welcome into MARVAC RV & Camping Shows. The Americans with Disabilities Act (ADA) 2010 Regulations define a service animal as “any dog that is individually trained to do work or perform tasks for the benefit of an individual with a disability\, including a physical\, sensory\, psychiatric\, intellectual\, or other mental disability. Other species of animals\, whether wild or domestic\, trained or untrained\, are not service animals for the purposes of this definition.” C.F.R. § 35.104 and § 36.104 (2010).\n\n\n\nSubmit the form below to get your $1 off coupon now!
URL:https://www.michiganrvandcampgrounds.org/event/48th-annual-flint-rv-camping-show/
LOCATION:Dort Financial Center\, 3501 Lapeer Rd\, Flint\, MI\, 48503\, United States
CATEGORIES:RV Show
ATTACH;FMTTYPE=image/png:https://www.michiganrvandcampgrounds.org/wp-content/uploads/2025/01/Flint-Event-page-graphic_website.png
END:VEVENT
BEGIN:VEVENT
DTSTART;TZID=America/Detroit:20250321T110000
DTEND;TZID=America/Detroit:20250323T170000
DTSTAMP:20260422T030743
CREATED:20260414T192317Z
LAST-MODIFIED:20260414T212444Z
UID:78978-1742554800-1742749200@www.michiganrvandcampgrounds.org
SUMMARY:33rd Annual Northwest MI RV & Camping Show
DESCRIPTION:New RVs will be on display to tour at the MARVAC 33rd Annual Northwest MI RV & Camping Show at the Grand Traverse County Civic Center. Our dealers are available during show hours to help you find an RV for any budget with exclusive on-site dealer RV financing\, special discounted models\, and RV rental information. There will also be multiple booth exhibitors. \nHours: Friday 11 a.m.-8 p.m.\, Saturday 11 a.m. – 8 p.m.\, Sunday 11 a.m. -5 p.m. \nTickets: Adult admission (ages 13 and over) is $7. Senior admission (ages 55 and over) is $6. Children 12 and under get in free. Tickets available here. \nTicket is good for one-day entry. All sales are final. Purchased tickets are non-refundable. \nWhere: Grand Traverse County Civic Center – 1213 W. Civic Center Dr.\, Traverse City\, MI 49686. Parking not included in show admission. \nFloor plan & Exhibitor List \n  \n\nIn exchange for the Michigan Manufactured Housing RV & Campground Association (“Association”) allowing attendee to attend this event\, attendee assumes all risk of\, and agrees that the Association\, its employees and members\, and other show participants are not liable for any damage to property or injury to or death of any persons. As further consideration\, attendee agrees to defend\, indemnify and hold harmless Association\, its employees and members\, and other show participants from and against any and all claims for any injury or death to any person\, or sustained by any person or property related to the attendee attending this event. \n\n\nAnimal policy: Service animals are welcome into MARVAC RV & Camping Shows. The Americans with Disabilities Act (ADA) 2010 Regulations define a service animal as “any dog that is individually trained to do work or perform tasks for the benefit of an individual with a disability\, including a physical\, sensory\, psychiatric\, intellectual\, or other mental disability. Other species of animals\, whether wild or domestic\, trained or untrained\, are not service animals for the purposes of this definition.” C.F.R. § 35.104 and § 36.104 (2010).\n\n\nSubmit the form below to get your $1 off coupon now!
URL:https://www.michiganrvandcampgrounds.org/event/33rd-annual-northwest-mi-rv-camping-show/
LOCATION:Grand Traverse County Civic Center\, 1213 W Civic Center Dr.\, Traverse City\, MI\, 49686\, United States
CATEGORIES:Northwest Region,RV Show
ATTACH;FMTTYPE=image/png:https://www.michiganrvandcampgrounds.org/wp-content/uploads/2025/02/TC-Website-event-page-banner-1.png
END:VEVENT
END:VCALENDAR